BEGIN:VCALENDAR
VERSION:2.0
PRODID:-//Lina Edu - ECPv6.15.14//NONSGML v1.0//EN
CALSCALE:GREGORIAN
METHOD:PUBLISH
X-ORIGINAL-URL:https://linaedu.eu
X-WR-CALDESC:Events for Lina Edu
REFRESH-INTERVAL;VALUE=DURATION:PT1H
X-Robots-Tag:noindex
X-PUBLISHED-TTL:PT1H
BEGIN:VTIMEZONE
TZID:Europe/Zagreb
BEGIN:DAYLIGHT
TZOFFSETFROM:+0100
TZOFFSETTO:+0200
TZNAME:CEST
DTSTART:20240331T010000
END:DAYLIGHT
BEGIN:STANDARD
TZOFFSETFROM:+0200
TZOFFSETTO:+0100
TZNAME:CET
DTSTART:20241027T010000
END:STANDARD
BEGIN:DAYLIGHT
TZOFFSETFROM:+0100
TZOFFSETTO:+0200
TZNAME:CEST
DTSTART:20250330T010000
END:DAYLIGHT
BEGIN:STANDARD
TZOFFSETFROM:+0200
TZOFFSETTO:+0100
TZNAME:CET
DTSTART:20251026T010000
END:STANDARD
BEGIN:DAYLIGHT
TZOFFSETFROM:+0100
TZOFFSETTO:+0200
TZNAME:CEST
DTSTART:20260329T010000
END:DAYLIGHT
BEGIN:STANDARD
TZOFFSETFROM:+0200
TZOFFSETTO:+0100
TZNAME:CET
DTSTART:20261025T010000
END:STANDARD
END:VTIMEZONE
BEGIN:VEVENT
DTSTART;VALUE=DATE:20250922
DTEND;VALUE=DATE:20250928
DTSTAMP:20260419T153630
CREATED:20250105T113433Z
LAST-MODIFIED:20250105T113433Z
UID:212343-1758499200-1759017599@linaedu.eu
SUMMARY:Basic English: Presentation Skills in Different Forms [22.09. - 27.09.2025.]
DESCRIPTION:Basic English: Presentation Skills in Different Forms [22.09. – 27.09.2025.] \n\n\n\n\n\n\n01\n\n\n\n\nLearn to Present in English\n\n\n\n\nGain practical skills in preparing structured presentations\, with correct grammar and vocabulary. \n\n\n\n\n\n\n02\n\n\n\n\nLearn to Speak English\n\n\n\n\nLearn to express your ideas and thoughts by using cultural heritage landmarks for presentation purposes. \n\n\n\n\n\n\n03\n\n\n\n\nCollaboration\n\n\n\n\nCollaborate with like-minded teachers from Europe in the Erasmus+ program. \n\n\nApply Now
URL:https://linaedu.eu/course/basic-english-presentation-skills-in-different-forms-22-09-27-09-2025/
LOCATION:Split\, Split\, Croatia (Local Name: Hrvatska)
CATEGORIES:Basic English
ATTACH;FMTTYPE=image/jpeg:https://linaedu.eu/wp-content/uploads/2023/08/Lina-Edu-Erasmus-Course-Intensive-English-Language-Course-Presentation-Skills-in-Different-Forms.jpg
ORGANIZER;CN="Lina Edu Erasmus+ Courses Croatia":MAILTO:info@linaedu.eu
END:VEVENT
BEGIN:VEVENT
DTSTART;VALUE=DATE:20250922
DTEND;VALUE=DATE:20250928
DTSTAMP:20260419T153630
CREATED:20250105T145817Z
LAST-MODIFIED:20250105T145817Z
UID:212558-1758499200-1759017599@linaedu.eu
SUMMARY:Intensive English: Presentation Skills in Different Forms [22.09 - 27.09.2025.]
DESCRIPTION:Intensive English: Presentation Skills in Different Forms [22.09 – 27.09.2025.] \n\n\n\n\n\n\n\n\n\n\n\n\n01\n\n\n\n\nLearn to Present in English\n\n\n\n\nGain practical skills in preparing structured presentations\, with correct grammar and vocabulary. \n\n\n\n\n\n\n02\n\n\n\n\nLearn to Speak English\n\n\n\n\nLearn to express your ideas and thoughts by using cultural heritage landmarks for presentation purposes. \n\n\n\n\n\n\n03\n\n\n\n\nCollaboration\n\n\n\n\nCollaborate with like-minded teachers from Europe in the Erasmus+ program. \n\n\nApply Now
URL:https://linaedu.eu/course/intensive-english-presentation-skills-in-different-forms-22-09-27-09-2025/
LOCATION:Split\, Split\, Croatia (Local Name: Hrvatska)
CATEGORIES:Intensive English
ATTACH;FMTTYPE=image/jpeg:https://linaedu.eu/wp-content/uploads/2023/08/Lina-Edu-Erasmus-Course-Intensive-English-Language-Course-Presentation-Skills-in-Different-Forms.jpg
ORGANIZER;CN="Lina Edu Erasmus+ Courses Croatia":MAILTO:info@linaedu.eu
END:VEVENT
BEGIN:VEVENT
DTSTART;VALUE=DATE:20250922
DTEND;VALUE=DATE:20250928
DTSTAMP:20260419T153630
CREATED:20250106T115311Z
LAST-MODIFIED:20250106T115311Z
UID:212678-1758499200-1759017599@linaedu.eu
SUMMARY:Teaching with Strong Self-Confidence: Teachers Beginners [22.09. - 27.09.2025.]
DESCRIPTION:Teaching with Strong Self-Confidence: Teachers Beginners [22.09. – 27.09.2025.] \n\n\n\n\n\n\n\n\n\n\n\n\n\n\n\n\n\n\n01\n\n\n\n\nDevelop New Methodology\n\n\n\n\nGain practical skills in teaching with curriculum plans\, lesson plans and making transitions from lesson parts. \n\n\n\n\n\n\n02\n\n\n\n\nCreate Teaching Materials\n\n\n\n\nLearn to create and achieve learning outcomes\, forms of assessment\, basic pedagogy standard. \n\n\n\n\n\n\n03\n\n\n\n\nCollaboration\n\n\n\n\nGet a mentorship on how to make a cross-curricular collaboration with colleagues. \n\n\nApply Now
URL:https://linaedu.eu/course/teaching-with-strong-self-confidence-teachers-beginners-22-09-27-09-2025/
LOCATION:Split\, Split\, Croatia (Local Name: Hrvatska)
CATEGORIES:Confidence
ATTACH;FMTTYPE=image/jpeg:https://linaedu.eu/wp-content/uploads/2023/08/Lina-Edu-Erasmus-Course-Teaching-with-Strong-Self-Confidence-Course-for-Teachers-Beginners.jpg
ORGANIZER;CN="Lina Edu Erasmus+ Courses Croatia":MAILTO:info@linaedu.eu
END:VEVENT
BEGIN:VEVENT
DTSTART;VALUE=DATE:20250922
DTEND;VALUE=DATE:20250928
DTSTAMP:20260419T153630
CREATED:20250106T124829Z
LAST-MODIFIED:20250106T124829Z
UID:212783-1758499200-1759017599@linaedu.eu
SUMMARY:Unlock your Well-being Code - A Healthy Teacher Offers more [22.09. - 27.09.2025.]
DESCRIPTION:Unlock your Well-being Code – A Healthy Teacher Offers more [22.09. – 27.09.2025.] \n\n\n\n\n\n\n\n\n\n\n\n\n\n\n\n\n\n\n\n\n\n01\n\n\n\n\nStrengthen your abilities\n\n\n\n\nBy participating in this Erasmus+ course\, teachers will discover practical strategies to acquire healthier and happier personal and professional lives. \n\n\n\n\n\n\n02\n\n\n\n\nImprove your professional goals\n\n\n\n\nTeachers can significantly improve their classroom performance and overall job satisfaction by developing new skills based on physical and emotional well-being techniques and strategies. \n\n\n\n\n\n\n03\n\n\n\n\nSupport and guidance\n\n\n\n\nParticipants will receive support from motivated and dedicated course instructors who will provide a step-by-step approach to integrating all aspects of well-being into the daily life of teachers and their professional duties. \n\n\nApply Now
URL:https://linaedu.eu/course/unlock-your-well-being-code-a-healthy-teacher-offers-more-22-09-27-09-2025/
LOCATION:Split\, Split\, Croatia (Local Name: Hrvatska)
CATEGORIES:Wellbeing
ATTACH;FMTTYPE=image/png:https://linaedu.eu/wp-content/uploads/2024/11/Lina-Edu-Introduction-to-Mindfullness-and-Flow.png
ORGANIZER;CN="Lina Edu Erasmus+ Courses Croatia":MAILTO:info@linaedu.eu
END:VEVENT
BEGIN:VEVENT
DTSTART;VALUE=DATE:20250922
DTEND;VALUE=DATE:20250928
DTSTAMP:20260419T153630
CREATED:20250106T134343Z
LAST-MODIFIED:20250327T192417Z
UID:212888-1758499200-1759017599@linaedu.eu
SUMMARY:Video Teaching Methods: Flipped Classroom [22.09. - 27.09.2025.]
DESCRIPTION:Creative Teaching Methods-Video Teacher and Successful Video Lessons [22.09. – 27.09.2025.] \n\n\n\n\n\n\n\n\n\n\n\n\n\n\n\n\n\n\n\n\n\n\n\n\n01\n\n\n\n\nMake Lessons Engaging\n\n\n\n\nThis Erasmus+ course will help participants to use a video lesson as an innovative teaching method to make their students more engaged\, responsible for their learning process \n\n\n\n\n\n\n02\n\n\n\n\nImprove Your Approach\n\n\n\n\nIndividual\, pair and group\, and a field class with the additional value of the meaningful cultural heritage implementation that is required to accomplish cross-curricular expectations. \n\n\n\n\n\n\n03\n\n\n\n\nGuidance\n\n\n\n\nDuring the course\, teachers will be precisely guided how to create a video lesson starting from a blank slide. \n\n\nApply Now
URL:https://linaedu.eu/course/creative-teaching-methods-video-teacher-and-successful-video-lessons-22-09-27-09-2025/
LOCATION:Split\, Split\, Croatia (Local Name: Hrvatska)
CATEGORIES:Video
ATTACH;FMTTYPE=image/jpeg:https://linaedu.eu/wp-content/uploads/2023/08/Lina-Edu-Erasmus-Course-Creative-Teaching-Methods-Video-Teacher-and-Successful-Video-Lessons.jpg
ORGANIZER;CN="Lina Edu Erasmus+ Courses Croatia":MAILTO:info@linaedu.eu
END:VEVENT
BEGIN:VEVENT
DTSTART;VALUE=DATE:20250922
DTEND;VALUE=DATE:20250928
DTSTAMP:20260419T153630
CREATED:20250106T143816Z
LAST-MODIFIED:20250106T143816Z
UID:212990-1758499200-1759017599@linaedu.eu
SUMMARY:Zen-sational Teaching: Teach the Mindful Way [22.09. - 27.09.2025.]
DESCRIPTION:Zen-sational Teaching: Teach the Mindful Way [22.09. – 27.09.2025.] \n\n\n\n\n\n\n\n\n\n\n\n\n\n\n\n\n\n\n\n\n\n\n\n\n\n\n\n01\n\n\n\n\nStrengthen your overall well-being\n\n\n\n\nBy participating in this Erasmus+ course\, teachers will gain useful strategies to achieve more\npersonal and professional balance. \n\n\n\n\n\n\n02\n\n\n\n\nImprove your teacher’s performance\n\n\n\n\nBy developing new skills based on balanced mindfulness techniques\, teachers will gain more powerful and effective performance in their classes. \n\n\n\n\n\n\n03\n\n\n\n\nGuidance\n\n\n\n\nParticipants will be guided\, tutored and assisted how to implement mindfulness techniques\nand methods in their life and work implying step-by step approach by motivated course\neducators. \n\n\nApply Now
URL:https://linaedu.eu/course/zen-sational-teaching-teach-the-mindful-way-22-09-27-09-2025/
LOCATION:Split\, Split\, Croatia (Local Name: Hrvatska)
CATEGORIES:Zen
ATTACH;FMTTYPE=image/jpeg:https://linaedu.eu/wp-content/uploads/2024/08/ZEN.jpg
ORGANIZER;CN="Lina Edu Erasmus+ Courses Croatia":MAILTO:info@linaedu.eu
END:VEVENT
BEGIN:VEVENT
DTSTART;VALUE=DATE:20250922
DTEND;VALUE=DATE:20250928
DTSTAMP:20260419T153630
CREATED:20250419T130912Z
LAST-MODIFIED:20250419T130912Z
UID:214125-1758499200-1759017599@linaedu.eu
SUMMARY:Teacher's Brand in Digital Age: AI\, Social Networks\, Creativity\, and Online Safety [22.09. - 27.09.2025.]
DESCRIPTION:01\n\n\n\n\nEfficiently use social networks for educational purposes\n\n\n\n\nDevelop digital competencies and promoting STEAM educational strategies to implement cross-curricular activities \n\n\n\n\n\n\n02\n\n\n\n\nRecognize possibilities of social networks in educational context\n\n\n\n\nUse social networks for sharing teaching material\, setting up collaborative space with students \n\n\n\n\n\n\n03\n\n\n\n\nDevelop strategies for safe and responsible use of social networks in classrooms\n\n\n\n\nCreate teaching/educational content and video material to engage their students more \n  \n\n\nPre-register Here!
URL:https://linaedu.eu/course/teachers-brand-in-digital-age-ai-social-networks-creativity-and-online-safety-22-09-27-09-2025/
LOCATION:Split\, Split\, Croatia (Local Name: Hrvatska)
CATEGORIES:Teachers in Digital Age
ATTACH;FMTTYPE=image/png:https://linaedu.eu/wp-content/uploads/2025/04/Lina-Edu-Teachers-Brand-in-the-Digital-Age-Erasmus-Course.png
ORGANIZER;CN="Lina Edu Erasmus+ Courses Croatia":MAILTO:info@linaedu.eu
END:VEVENT
END:VCALENDAR