BEGIN:VCALENDAR
VERSION:2.0
PRODID:-//Lina Edu - ECPv6.15.14//NONSGML v1.0//EN
CALSCALE:GREGORIAN
METHOD:PUBLISH
X-ORIGINAL-URL:https://linaedu.eu
X-WR-CALDESC:Events for Lina Edu
REFRESH-INTERVAL;VALUE=DURATION:PT1H
X-Robots-Tag:noindex
X-PUBLISHED-TTL:PT1H
BEGIN:VTIMEZONE
TZID:Europe/Zagreb
BEGIN:DAYLIGHT
TZOFFSETFROM:+0100
TZOFFSETTO:+0200
TZNAME:CEST
DTSTART:20240331T010000
END:DAYLIGHT
BEGIN:STANDARD
TZOFFSETFROM:+0200
TZOFFSETTO:+0100
TZNAME:CET
DTSTART:20241027T010000
END:STANDARD
BEGIN:DAYLIGHT
TZOFFSETFROM:+0100
TZOFFSETTO:+0200
TZNAME:CEST
DTSTART:20250330T010000
END:DAYLIGHT
BEGIN:STANDARD
TZOFFSETFROM:+0200
TZOFFSETTO:+0100
TZNAME:CET
DTSTART:20251026T010000
END:STANDARD
BEGIN:DAYLIGHT
TZOFFSETFROM:+0100
TZOFFSETTO:+0200
TZNAME:CEST
DTSTART:20260329T010000
END:DAYLIGHT
BEGIN:STANDARD
TZOFFSETFROM:+0200
TZOFFSETTO:+0100
TZNAME:CET
DTSTART:20261025T010000
END:STANDARD
END:VTIMEZONE
BEGIN:VEVENT
DTSTART;VALUE=DATE:20250630
DTEND;VALUE=DATE:20250706
DTSTAMP:20260424T132631
CREATED:20250218T151151Z
LAST-MODIFIED:20250218T151650Z
UID:213858-1751241600-1751759999@linaedu.eu
SUMMARY:PBL & TBL together: „Question-solution-realization-promotion! [30.06. - 05.07.2025.]
DESCRIPTION:Erasmus+ Course: PBL & TBL together: „Question-solution-realization-promotion! [30.06. – 05.07.2025.] \n\n\n\n\n\n\n\n\n\n\n\n\n\n\n\n\n\n\n\n\n\n\n\n\nThree major course points\n1. Highly useful teaching method – Integrated class!\nCombination of two different subjects (Art and English language) at the same time and the same\nplace teaching mutual students. Modern teaching methods and approaches are applied: active\nteaching and learning methods\, cross-curricular approach\, mentoring work & project class \n2. Facilitating &amp; reinforcing class for highly-motivated\, talented and gifted students \n3. Development of competencies in the field of cultural awareness/expression\,\nlanguage skills\, digital skills\, media and information literacy\, active citizenship and\nentrepreneurship skills \nThe Course Summary:\nPBL & TBL – project  & task based learning have a lot in common\, but also they differ by their teaching\nfocus. While PBL concentrates on executing complex activities and integrating different subjects content\nand knowledge to find a right answer to the project questions\, and eventually create a solution that\nrelates to the real-surrounding context\, TBL accomplishes its fundamental goals through achieving\nstrong language skills and competencies. Both methods motivate development of a lifelong learning\nprocess\, needed for getting abilities for the present/future labour market and for daily life\nadvancements. \nThe participants will get the real-world related project task and they will connect different\ncontent/subjects knowledge to find the right solution and to create their own product that refers to\npreserving cultural heritage. \nAlthough both methods put a student in the centre of learning\, that does not mean that only a single\nstudent executes activities. The course forte is on team work\, because teamwork is the basis for both\nmethods: PBL and TBL. As a naturally normal phase after the complex work\, reflection and peer\nassessment is an essential part of this course. \nBENEFITS:This course is a real example of beneficial teacher training because it brings different values\,\ndevelopment of: \ncultural awareness\, creative expression\, practical work\, team work\, problem-solving logical thinking\,\nlanguage skills\, presentation skills\, digital skills\, media and information literacy\, active citizenship and\nentrepreneurship skills. \n\n\n\n\nApply Now
URL:https://linaedu.eu/course/pbl-tbl-together-question-solution-realization-promotion-30-06-05-07-2025/
LOCATION:Split\, Split\, Croatia (Local Name: Hrvatska)
CATEGORIES:PBL & TBL
ATTACH;FMTTYPE=image/jpeg:https://linaedu.eu/wp-content/uploads/2025/02/Lina-Edu-Erasmus-Courses-Croatia-PBL-and-TBL-Erasmus-Course-for-Teachers-scaled.jpeg
ORGANIZER;CN="Lina Edu Erasmus+ Courses Croatia":MAILTO:info@linaedu.eu
END:VEVENT
END:VCALENDAR