BEGIN:VCALENDAR
VERSION:2.0
PRODID:-//Lina Edu - ECPv6.15.14//NONSGML v1.0//EN
CALSCALE:GREGORIAN
METHOD:PUBLISH
X-WR-CALNAME:Lina Edu
X-ORIGINAL-URL:https://linaedu.eu
X-WR-CALDESC:Events for Lina Edu
REFRESH-INTERVAL;VALUE=DURATION:PT1H
X-Robots-Tag:noindex
X-PUBLISHED-TTL:PT1H
BEGIN:VTIMEZONE
TZID:Europe/Zagreb
BEGIN:DAYLIGHT
TZOFFSETFROM:+0100
TZOFFSETTO:+0200
TZNAME:CEST
DTSTART:20240331T010000
END:DAYLIGHT
BEGIN:STANDARD
TZOFFSETFROM:+0200
TZOFFSETTO:+0100
TZNAME:CET
DTSTART:20241027T010000
END:STANDARD
BEGIN:DAYLIGHT
TZOFFSETFROM:+0100
TZOFFSETTO:+0200
TZNAME:CEST
DTSTART:20250330T010000
END:DAYLIGHT
BEGIN:STANDARD
TZOFFSETFROM:+0200
TZOFFSETTO:+0100
TZNAME:CET
DTSTART:20251026T010000
END:STANDARD
BEGIN:DAYLIGHT
TZOFFSETFROM:+0100
TZOFFSETTO:+0200
TZNAME:CEST
DTSTART:20260329T010000
END:DAYLIGHT
BEGIN:STANDARD
TZOFFSETFROM:+0200
TZOFFSETTO:+0100
TZNAME:CET
DTSTART:20261025T010000
END:STANDARD
END:VTIMEZONE
BEGIN:VEVENT
DTSTART;VALUE=DATE:20250303
DTEND;VALUE=DATE:20250309
DTSTAMP:20260421T001138
CREATED:20250105T152200Z
LAST-MODIFIED:20250105T152212Z
UID:212593-1740960000-1741478399@linaedu.eu
SUMMARY:[CONFIRMED] Photography & Visuals With AI: Boost Your Creativity [03.03. - 08.03.2025.]
DESCRIPTION:Photography & Visuals With AI: Boost Your Creativity [03.03. – 08.03.2025.] \n\n\n\n\n\n\n\n\n\n\n\n\n\n\n\n01\n\n\n\n\nDevelop Creative Skills\n\n\n\nGain practical skills in photography and visual storytelling applicable directly to your teaching.\n\n\n\n\n\n02\n\n\n\n\nUtilize AI Tools\n\n\n\nLearn to employ AI tools to create engaging and visually appealing classroom presentations.\n\n\n\n\n\n03\n\n\n\n\nHands-On Experience\n\n\n\nEngage in hands-on activities in Split’s unique landscapes to master your new skills.\n\nApply Now
URL:https://linaedu.eu/course/confirmed-photography-visuals-with-ai-boost-your-creativity-03-03-08-03-2025/
LOCATION:Split\, Split\, Croatia (Local Name: Hrvatska)
CATEGORIES:Photography
ATTACH;FMTTYPE=image/png:https://linaedu.eu/wp-content/uploads/2024/02/Lina-Edu-Erasmus-Plus-Course-AI-and-Photography-in-the-Classroom.png
ORGANIZER;CN="Lina Edu Erasmus+ Courses Croatia":MAILTO:info@linaedu.eu
END:VEVENT
BEGIN:VEVENT
DTSTART;VALUE=DATE:20250203
DTEND;VALUE=DATE:20250209
DTSTAMP:20260421T001138
CREATED:20250105T152053Z
LAST-MODIFIED:20250105T152245Z
UID:212591-1738540800-1739059199@linaedu.eu
SUMMARY:Photography & Visuals With AI: Boost Your Creativity [03.02. - 08.02.2025.]
DESCRIPTION:Photography & Visuals With AI: Boost Your Creativity [03.02. – 08.02.2025.] \n\n\n\n\n\n\n\n\n\n\n\n\n\n\n\n01\n\n\n\n\nDevelop Creative Skills\n\n\n\nGain practical skills in photography and visual storytelling applicable directly to your teaching.\n\n\n\n\n\n02\n\n\n\n\nUtilize AI Tools\n\n\n\nLearn to employ AI tools to create engaging and visually appealing classroom presentations.\n\n\n\n\n\n03\n\n\n\n\nHands-On Experience\n\n\n\nEngage in hands-on activities in Split’s unique landscapes to master your new skills.\n\nApply Now
URL:https://linaedu.eu/course/photography-visuals-with-ai-boost-your-creativity-03-02-08-02-2025/
LOCATION:Split\, Split\, Croatia (Local Name: Hrvatska)
CATEGORIES:Photography
ATTACH;FMTTYPE=image/png:https://linaedu.eu/wp-content/uploads/2024/02/Lina-Edu-Erasmus-Plus-Course-AI-and-Photography-in-the-Classroom.png
ORGANIZER;CN="Lina Edu Erasmus+ Courses Croatia":MAILTO:info@linaedu.eu
END:VEVENT
BEGIN:VEVENT
DTSTART;VALUE=DATE:20250120
DTEND;VALUE=DATE:20250126
DTSTAMP:20260421T001138
CREATED:20250105T151950Z
LAST-MODIFIED:20250105T152249Z
UID:212589-1737331200-1737849599@linaedu.eu
SUMMARY:Photography & Visuals With AI: Boost Your Creativity [20.01. - 25.01.2025.]
DESCRIPTION:Photography & Visuals With AI: Boost Your Creativity [20.01. – 25.01.2025.] \n\n\n\n\n\n\n\n\n\n\n\n\n\n\n\n01\n\n\n\n\nDevelop Creative Skills\n\n\n\nGain practical skills in photography and visual storytelling applicable directly to your teaching.\n\n\n\n\n\n02\n\n\n\n\nUtilize AI Tools\n\n\n\nLearn to employ AI tools to create engaging and visually appealing classroom presentations.\n\n\n\n\n\n03\n\n\n\n\nHands-On Experience\n\n\n\nEngage in hands-on activities in Split’s unique landscapes to master your new skills.\n\nApply Now
URL:https://linaedu.eu/course/photography-visuals-with-ai-boost-your-creativity-20-01-25-01-2025/
LOCATION:Split\, Split\, Croatia (Local Name: Hrvatska)
CATEGORIES:Photography
ATTACH;FMTTYPE=image/png:https://linaedu.eu/wp-content/uploads/2024/02/Lina-Edu-Erasmus-Plus-Course-AI-and-Photography-in-the-Classroom.png
ORGANIZER;CN="Lina Edu Erasmus+ Courses Croatia":MAILTO:info@linaedu.eu
END:VEVENT
BEGIN:VEVENT
DTSTART;VALUE=DATE:20250113
DTEND;VALUE=DATE:20250119
DTSTAMP:20260421T001138
CREATED:20250105T151850Z
LAST-MODIFIED:20250105T152252Z
UID:212587-1736726400-1737244799@linaedu.eu
SUMMARY:Photography & Visuals With AI: Boost Your Creativity [13.01. - 18.01.2025.]
DESCRIPTION:Photography & Visuals With AI: Boost Your Creativity [13.01. – 18.01.2025.] \n\n\n\n\n\n\n\n\n\n\n\n\n\n\n\n01\n\n\n\n\nDevelop Creative Skills\n\n\n\nGain practical skills in photography and visual storytelling applicable directly to your teaching.\n\n\n\n\n\n02\n\n\n\n\nUtilize AI Tools\n\n\n\nLearn to employ AI tools to create engaging and visually appealing classroom presentations.\n\n\n\n\n\n03\n\n\n\n\nHands-On Experience\n\n\n\nEngage in hands-on activities in Split’s unique landscapes to master your new skills.\n\nApply Now
URL:https://linaedu.eu/course/photography-visuals-with-ai-boost-your-creativity-13-01-18-01-2025/
LOCATION:Split\, Split\, Croatia (Local Name: Hrvatska)
CATEGORIES:Photography
ATTACH;FMTTYPE=image/png:https://linaedu.eu/wp-content/uploads/2024/02/Lina-Edu-Erasmus-Plus-Course-AI-and-Photography-in-the-Classroom.png
ORGANIZER;CN="Lina Edu Erasmus+ Courses Croatia":MAILTO:info@linaedu.eu
END:VEVENT
END:VCALENDAR