BEGIN:VCALENDAR
VERSION:2.0
PRODID:-//Lina Edu - ECPv6.15.14//NONSGML v1.0//EN
CALSCALE:GREGORIAN
METHOD:PUBLISH
X-ORIGINAL-URL:https://linaedu.eu
X-WR-CALDESC:Events for Lina Edu
REFRESH-INTERVAL;VALUE=DURATION:PT1H
X-Robots-Tag:noindex
X-PUBLISHED-TTL:PT1H
BEGIN:VTIMEZONE
TZID:Europe/Zagreb
BEGIN:DAYLIGHT
TZOFFSETFROM:+0100
TZOFFSETTO:+0200
TZNAME:CEST
DTSTART:20240331T010000
END:DAYLIGHT
BEGIN:STANDARD
TZOFFSETFROM:+0200
TZOFFSETTO:+0100
TZNAME:CET
DTSTART:20241027T010000
END:STANDARD
BEGIN:DAYLIGHT
TZOFFSETFROM:+0100
TZOFFSETTO:+0200
TZNAME:CEST
DTSTART:20250330T010000
END:DAYLIGHT
BEGIN:STANDARD
TZOFFSETFROM:+0200
TZOFFSETTO:+0100
TZNAME:CET
DTSTART:20251026T010000
END:STANDARD
BEGIN:DAYLIGHT
TZOFFSETFROM:+0100
TZOFFSETTO:+0200
TZNAME:CEST
DTSTART:20260329T010000
END:DAYLIGHT
BEGIN:STANDARD
TZOFFSETFROM:+0200
TZOFFSETTO:+0100
TZNAME:CET
DTSTART:20261025T010000
END:STANDARD
END:VTIMEZONE
BEGIN:VEVENT
DTSTART;VALUE=DATE:20250915
DTEND;VALUE=DATE:20250921
DTSTAMP:20260424T134313
CREATED:20250419T100928Z
LAST-MODIFIED:20250419T100928Z
UID:214073-1757894400-1758412799@linaedu.eu
SUMMARY:The Tactile Classroom: Ceramics as a Tool for Special Education & Inclusion [15.09. - 20.09.2025]
DESCRIPTION:01\n\n\n\n\nDevelop creative and artistic skills through working with clay\n\n\n\n\nConnect cultural heritage with artistic expression! Understand the role of art in inclusive education and the STEAM approach. \n\n\n\n\n\n\n02\n\n\n\n\nImprove motor skills through practical activities with clay\n\n\n\n\n.Develop inclusive methods of work that involve students with disabilities. Enhance motor skills through practical activities \n\n\n\n\n\n\n03\n\n\n\n\nExplore the possibilities of using ceramics in extracurricular activities\n\n\n\n\nExperience different techniques of clay processing\, from modelling to painting and glazing! Explore possibilities of using ceramics in teaching. \n\n\nPre-register Here!
URL:https://linaedu.eu/course/the-tactile-classroom-ceramics-as-a-tool-for-special-education-inclusion-15-09-20-09-2025/
LOCATION:Split\, Split\, Croatia (Local Name: Hrvatska)
CATEGORIES:Tactile Classroom
ATTACH;FMTTYPE=image/jpeg:https://linaedu.eu/wp-content/uploads/2025/04/Lina-Edu-Erasmus-Course-Croatia-Moulding-With-Clay-1.jpeg
ORGANIZER;CN="Lina Edu Erasmus+ Courses Croatia":MAILTO:info@linaedu.eu
END:VEVENT
BEGIN:VEVENT
DTSTART;VALUE=DATE:20250908
DTEND;VALUE=DATE:20250914
DTSTAMP:20260424T134313
CREATED:20250419T100801Z
LAST-MODIFIED:20250419T100801Z
UID:214071-1757289600-1757807999@linaedu.eu
SUMMARY:The Tactile Classroom: Ceramics as a Tool for Special Education & Inclusion [08.09. - 13.09.2025]
DESCRIPTION:01\n\n\n\n\nDevelop creative and artistic skills through working with clay\n\n\n\n\nConnect cultural heritage with artistic expression! Understand the role of art in inclusive education and the STEAM approach. \n\n\n\n\n\n\n02\n\n\n\n\nImprove motor skills through practical activities with clay\n\n\n\n\n.Develop inclusive methods of work that involve students with disabilities. Enhance motor skills through practical activities \n\n\n\n\n\n\n03\n\n\n\n\nExplore the possibilities of using ceramics in extracurricular activities\n\n\n\n\nExperience different techniques of clay processing\, from modelling to painting and glazing! Explore possibilities of using ceramics in teaching. \n\n\nPre-register Here!
URL:https://linaedu.eu/course/the-tactile-classroom-ceramics-as-a-tool-for-special-education-inclusion-08-09-13-09-2025/
LOCATION:Split\, Split\, Croatia (Local Name: Hrvatska)
CATEGORIES:Tactile Classroom
ATTACH;FMTTYPE=image/jpeg:https://linaedu.eu/wp-content/uploads/2025/04/Lina-Edu-Erasmus-Course-Croatia-Moulding-With-Clay-1.jpeg
ORGANIZER;CN="Lina Edu Erasmus+ Courses Croatia":MAILTO:info@linaedu.eu
END:VEVENT
BEGIN:VEVENT
DTSTART;VALUE=DATE:20250901
DTEND;VALUE=DATE:20250907
DTSTAMP:20260424T134313
CREATED:20250419T100634Z
LAST-MODIFIED:20250419T100634Z
UID:214067-1756684800-1757203199@linaedu.eu
SUMMARY:The Tactile Classroom: Ceramics as a Tool for Special Education & Inclusion [01.09. - 06.09.2025]
DESCRIPTION:01\n\n\n\n\nDevelop creative and artistic skills through working with clay\n\n\n\n\nConnect cultural heritage with artistic expression! Understand the role of art in inclusive education and the STEAM approach. \n\n\n\n\n\n\n02\n\n\n\n\nImprove motor skills through practical activities with clay\n\n\n\n\n.Develop inclusive methods of work that involve students with disabilities. Enhance motor skills through practical activities \n\n\n\n\n\n\n03\n\n\n\n\nExplore the possibilities of using ceramics in extracurricular activities\n\n\n\n\nExperience different techniques of clay processing\, from modelling to painting and glazing! Explore possibilities of using ceramics in teaching. \n\n\nPre-register Here!
URL:https://linaedu.eu/course/the-tactile-classroom-ceramics-as-a-tool-for-special-education-inclusion-01-09-06-09-2025/
LOCATION:Split\, Split\, Croatia (Local Name: Hrvatska)
CATEGORIES:Tactile Classroom
ATTACH;FMTTYPE=image/jpeg:https://linaedu.eu/wp-content/uploads/2025/04/Lina-Edu-Erasmus-Course-Croatia-Moulding-With-Clay-1.jpeg
ORGANIZER;CN="Lina Edu Erasmus+ Courses Croatia":MAILTO:info@linaedu.eu
END:VEVENT
BEGIN:VEVENT
DTSTART;VALUE=DATE:20250825
DTEND;VALUE=DATE:20250831
DTSTAMP:20260424T134313
CREATED:20250419T095722Z
LAST-MODIFIED:20250419T095722Z
UID:214065-1756080000-1756598399@linaedu.eu
SUMMARY:The Tactile Classroom: Ceramics as a Tool for Special Education & Inclusion [25.08. - 30.08.2025]
DESCRIPTION:01\n\n\n\n\nDevelop creative and artistic skills through working with clay\n\n\n\n\nConnect cultural heritage with artistic expression! Understand the role of art in inclusive education and the STEAM approach. \n\n\n\n\n\n\n02\n\n\n\n\nImprove motor skills through practical activities with clay\n\n\n\n\n.Develop inclusive methods of work that involve students with disabilities. Enhance motor skills through practical activities \n\n\n\n\n\n\n03\n\n\n\n\nExplore the possibilities of using ceramics in extracurricular activities\n\n\n\n\nExperience different techniques of clay processing\, from modelling to painting and glazing! Explore possibilities of using ceramics in teaching. \n\n\nPre-register Here!
URL:https://linaedu.eu/course/the-tactile-classroom-ceramics-as-a-tool-for-special-education-inclusion-25-08-30-08-2025/
LOCATION:Split\, Split\, Croatia (Local Name: Hrvatska)
CATEGORIES:Tactile Classroom
ATTACH;FMTTYPE=image/jpeg:https://linaedu.eu/wp-content/uploads/2025/04/Lina-Edu-Erasmus-Course-Croatia-Moulding-With-Clay-1.jpeg
ORGANIZER;CN="Lina Edu Erasmus+ Courses Croatia":MAILTO:info@linaedu.eu
END:VEVENT
BEGIN:VEVENT
DTSTART;VALUE=DATE:20250818
DTEND;VALUE=DATE:20250824
DTSTAMP:20260424T134313
CREATED:20250419T095011Z
LAST-MODIFIED:20250419T095011Z
UID:214063-1755475200-1755993599@linaedu.eu
SUMMARY:The Tactile Classroom: Ceramics as a Tool for Special Education & Inclusion [18.08. - 23.08.2025]
DESCRIPTION:01\n\n\n\n\nDevelop creative and artistic skills through working with clay\n\n\n\n\nConnect cultural heritage with artistic expression! Understand the role of art in inclusive education and the STEAM approach. \n\n\n\n\n\n\n02\n\n\n\n\nImprove motor skills through practical activities with clay\n\n\n\n\n.Develop inclusive methods of work that involve students with disabilities. Enhance motor skills through practical activities \n\n\n\n\n\n\n03\n\n\n\n\nExplore the possibilities of using ceramics in extracurricular activities\n\n\n\n\nExperience different techniques of clay processing\, from modelling to painting and glazing! Explore possibilities of using ceramics in teaching. \n\n\nPre-register Here!
URL:https://linaedu.eu/course/the-tactile-classroom-ceramics-as-a-tool-for-special-education-inclusion-18-08-23-08-2025/
LOCATION:Split\, Split\, Croatia (Local Name: Hrvatska)
CATEGORIES:Tactile Classroom
ATTACH;FMTTYPE=image/jpeg:https://linaedu.eu/wp-content/uploads/2025/04/Lina-Edu-Erasmus-Course-Croatia-Moulding-With-Clay-1.jpeg
ORGANIZER;CN="Lina Edu Erasmus+ Courses Croatia":MAILTO:info@linaedu.eu
END:VEVENT
BEGIN:VEVENT
DTSTART;VALUE=DATE:20250811
DTEND;VALUE=DATE:20250817
DTSTAMP:20260424T134313
CREATED:20250419T094935Z
LAST-MODIFIED:20250419T094935Z
UID:214061-1754870400-1755388799@linaedu.eu
SUMMARY:The Tactile Classroom: Ceramics as a Tool for Special Education & Inclusion [11.08. - 16.08.2025]
DESCRIPTION:01\n\n\n\n\nDevelop creative and artistic skills through working with clay\n\n\n\n\nConnect cultural heritage with artistic expression! Understand the role of art in inclusive education and the STEAM approach. \n\n\n\n\n\n\n02\n\n\n\n\nImprove motor skills through practical activities with clay\n\n\n\n\n.Develop inclusive methods of work that involve students with disabilities. Enhance motor skills through practical activities \n\n\n\n\n\n\n03\n\n\n\n\nExplore the possibilities of using ceramics in extracurricular activities\n\n\n\n\nExperience different techniques of clay processing\, from modelling to painting and glazing! Explore possibilities of using ceramics in teaching. \n\n\nPre-register Here!
URL:https://linaedu.eu/course/the-tactile-classroom-ceramics-as-a-tool-for-special-education-inclusion-11-08-16-08-2025/
LOCATION:Split\, Split\, Croatia (Local Name: Hrvatska)
CATEGORIES:Tactile Classroom
ATTACH;FMTTYPE=image/jpeg:https://linaedu.eu/wp-content/uploads/2025/04/Lina-Edu-Erasmus-Course-Croatia-Moulding-With-Clay-1.jpeg
ORGANIZER;CN="Lina Edu Erasmus+ Courses Croatia":MAILTO:info@linaedu.eu
END:VEVENT
BEGIN:VEVENT
DTSTART;VALUE=DATE:20250804
DTEND;VALUE=DATE:20250810
DTSTAMP:20260424T134313
CREATED:20250419T094856Z
LAST-MODIFIED:20250419T094856Z
UID:214059-1754265600-1754783999@linaedu.eu
SUMMARY:The Tactile Classroom: Ceramics as a Tool for Special Education & Inclusion [04.08. - 09.08.2025]
DESCRIPTION:01\n\n\n\n\nDevelop creative and artistic skills through working with clay\n\n\n\n\nConnect cultural heritage with artistic expression! Understand the role of art in inclusive education and the STEAM approach. \n\n\n\n\n\n\n02\n\n\n\n\nImprove motor skills through practical activities with clay\n\n\n\n\n.Develop inclusive methods of work that involve students with disabilities. Enhance motor skills through practical activities \n\n\n\n\n\n\n03\n\n\n\n\nExplore the possibilities of using ceramics in extracurricular activities\n\n\n\n\nExperience different techniques of clay processing\, from modelling to painting and glazing! Explore possibilities of using ceramics in teaching. \n\n\nPre-register Here!
URL:https://linaedu.eu/course/the-tactile-classroom-ceramics-as-a-tool-for-special-education-inclusion-04-08-09-08-2025/
LOCATION:Split\, Split\, Croatia (Local Name: Hrvatska)
CATEGORIES:Tactile Classroom
ATTACH;FMTTYPE=image/jpeg:https://linaedu.eu/wp-content/uploads/2025/04/Lina-Edu-Erasmus-Course-Croatia-Moulding-With-Clay-1.jpeg
ORGANIZER;CN="Lina Edu Erasmus+ Courses Croatia":MAILTO:info@linaedu.eu
END:VEVENT
BEGIN:VEVENT
DTSTART;VALUE=DATE:20250728
DTEND;VALUE=DATE:20250803
DTSTAMP:20260424T134313
CREATED:20250419T094801Z
LAST-MODIFIED:20250419T094801Z
UID:214054-1753660800-1754179199@linaedu.eu
SUMMARY:The Tactile Classroom: Ceramics as a Tool for Special Education & Inclusion [28.07. - 02.08.2025]
DESCRIPTION:01\n\n\n\n\nDevelop creative and artistic skills through working with clay\n\n\n\n\nConnect cultural heritage with artistic expression! Understand the role of art in inclusive education and the STEAM approach. \n\n\n\n\n\n\n02\n\n\n\n\nImprove motor skills through practical activities with clay\n\n\n\n\n.Develop inclusive methods of work that involve students with disabilities. Enhance motor skills through practical activities \n\n\n\n\n\n\n03\n\n\n\n\nExplore the possibilities of using ceramics in extracurricular activities\n\n\n\n\nExperience different techniques of clay processing\, from modelling to painting and glazing! Explore possibilities of using ceramics in teaching. \n\n\nPre-register Here!
URL:https://linaedu.eu/course/the-tactile-classroom-ceramics-as-a-tool-for-special-education-inclusion-28-07-02-08-2025/
LOCATION:Split\, Split\, Croatia (Local Name: Hrvatska)
CATEGORIES:Tactile Classroom
ATTACH;FMTTYPE=image/jpeg:https://linaedu.eu/wp-content/uploads/2025/04/Lina-Edu-Erasmus-Course-Croatia-Moulding-With-Clay-1.jpeg
ORGANIZER;CN="Lina Edu Erasmus+ Courses Croatia":MAILTO:info@linaedu.eu
END:VEVENT
BEGIN:VEVENT
DTSTART;VALUE=DATE:20250721
DTEND;VALUE=DATE:20250727
DTSTAMP:20260424T134313
CREATED:20250419T094415Z
LAST-MODIFIED:20250419T094644Z
UID:214052-1753056000-1753574399@linaedu.eu
SUMMARY:The Tactile Classroom: Ceramics as a Tool for Special Education & Inclusion [21.07. - 26.07.2025]
DESCRIPTION:01\n\n\n\n\nDevelop creative and artistic skills through working with clay\n\n\n\n\nConnect cultural heritage with artistic expression! Understand the role of art in inclusive education and the STEAM approach. \n\n\n\n\n\n\n02\n\n\n\n\nImprove motor skills through practical activities with clay\n\n\n\n\n.Develop inclusive methods of work that involve students with disabilities. Enhance motor skills through practical activities \n\n\n\n\n\n\n03\n\n\n\n\nExplore the possibilities of using ceramics in extracurricular activities\n\n\n\n\nExperience different techniques of clay processing\, from modelling to painting and glazing! Explore possibilities of using ceramics in teaching. \n\n\nPre-register Here!
URL:https://linaedu.eu/course/the-tactile-classroom-ceramics-as-a-tool-for-special-education-inclusion-21-07-26-07-2025/
LOCATION:Split\, Split\, Croatia (Local Name: Hrvatska)
CATEGORIES:Tactile Classroom
ATTACH;FMTTYPE=image/jpeg:https://linaedu.eu/wp-content/uploads/2025/04/Lina-Edu-Erasmus-Course-Croatia-Moulding-With-Clay-1.jpeg
ORGANIZER;CN="Lina Edu Erasmus+ Courses Croatia":MAILTO:info@linaedu.eu
END:VEVENT
BEGIN:VEVENT
DTSTART;VALUE=DATE:20250714
DTEND;VALUE=DATE:20250720
DTSTAMP:20260424T134313
CREATED:20250419T094336Z
LAST-MODIFIED:20250419T094611Z
UID:214050-1752451200-1752969599@linaedu.eu
SUMMARY:The Tactile Classroom: Ceramics as a Tool for Special Education & Inclusion [14.07. - 19.07.2025]
DESCRIPTION:01\n\n\n\n\nDevelop creative and artistic skills through working with clay\n\n\n\n\nConnect cultural heritage with artistic expression! Understand the role of art in inclusive education and the STEAM approach. \n\n\n\n\n\n\n02\n\n\n\n\nImprove motor skills through practical activities with clay\n\n\n\n\n.Develop inclusive methods of work that involve students with disabilities. Enhance motor skills through practical activities \n\n\n\n\n\n\n03\n\n\n\n\nExplore the possibilities of using ceramics in extracurricular activities\n\n\n\n\nExperience different techniques of clay processing\, from modelling to painting and glazing! Explore possibilities of using ceramics in teaching. \n\n\nPre-register Here!
URL:https://linaedu.eu/course/the-tactile-classroom-ceramics-as-a-tool-for-special-education-inclusion-14-07-19-07-2025/
LOCATION:Split\, Split\, Croatia (Local Name: Hrvatska)
CATEGORIES:Tactile Classroom
ATTACH;FMTTYPE=image/jpeg:https://linaedu.eu/wp-content/uploads/2025/04/Lina-Edu-Erasmus-Course-Croatia-Moulding-With-Clay-1.jpeg
ORGANIZER;CN="Lina Edu Erasmus+ Courses Croatia":MAILTO:info@linaedu.eu
END:VEVENT
BEGIN:VEVENT
DTSTART;VALUE=DATE:20250707
DTEND;VALUE=DATE:20250713
DTSTAMP:20260424T134313
CREATED:20250419T094224Z
LAST-MODIFIED:20250419T094543Z
UID:214048-1751846400-1752364799@linaedu.eu
SUMMARY:The Tactile Classroom: Ceramics as a Tool for Special Education & Inclusion [07.07. - 12.07.2025]
DESCRIPTION:01\n\n\n\n\nDevelop creative and artistic skills through working with clay\n\n\n\n\nConnect cultural heritage with artistic expression! Understand the role of art in inclusive education and the STEAM approach. \n\n\n\n\n\n\n02\n\n\n\n\nImprove motor skills through practical activities with clay\n\n\n\n\n.Develop inclusive methods of work that involve students with disabilities. Enhance motor skills through practical activities \n\n\n\n\n\n\n03\n\n\n\n\nExplore the possibilities of using ceramics in extracurricular activities\n\n\n\n\nExperience different techniques of clay processing\, from modelling to painting and glazing! Explore possibilities of using ceramics in teaching. \n\n\nPre-register Here!
URL:https://linaedu.eu/course/the-tactile-classroom-ceramics-as-a-tool-for-special-education-inclusion-07-07-12-07-2025/
LOCATION:Split\, Split\, Croatia (Local Name: Hrvatska)
CATEGORIES:Tactile Classroom
ATTACH;FMTTYPE=image/jpeg:https://linaedu.eu/wp-content/uploads/2025/04/Lina-Edu-Erasmus-Course-Croatia-Moulding-With-Clay-1.jpeg
ORGANIZER;CN="Lina Edu Erasmus+ Courses Croatia":MAILTO:info@linaedu.eu
END:VEVENT
BEGIN:VEVENT
DTSTART;VALUE=DATE:20250630
DTEND;VALUE=DATE:20250706
DTSTAMP:20260424T134313
CREATED:20250419T094124Z
LAST-MODIFIED:20250419T094515Z
UID:214046-1751241600-1751759999@linaedu.eu
SUMMARY:The Tactile Classroom: Ceramics as a Tool for Special Education & Inclusion [30.06. - 05.07.2025]
DESCRIPTION:01\n\n\n\n\nDevelop creative and artistic skills through working with clay\n\n\n\n\nConnect cultural heritage with artistic expression! Understand the role of art in inclusive education and the STEAM approach. \n\n\n\n\n\n\n02\n\n\n\n\nImprove motor skills through practical activities with clay\n\n\n\n\n.Develop inclusive methods of work that involve students with disabilities. Enhance motor skills through practical activities \n\n\n\n\n\n\n03\n\n\n\n\nExplore the possibilities of using ceramics in extracurricular activities\n\n\n\n\nExperience different techniques of clay processing\, from modelling to painting and glazing! Explore possibilities of using ceramics in teaching. \n\n\nPre-register Here!
URL:https://linaedu.eu/course/the-tactile-classroom-ceramics-as-a-tool-for-special-education-inclusion-30-06-05-07-2025/
LOCATION:Split\, Split\, Croatia (Local Name: Hrvatska)
CATEGORIES:Tactile Classroom
ATTACH;FMTTYPE=image/jpeg:https://linaedu.eu/wp-content/uploads/2025/04/Lina-Edu-Erasmus-Course-Croatia-Moulding-With-Clay-1.jpeg
ORGANIZER;CN="Lina Edu Erasmus+ Courses Croatia":MAILTO:info@linaedu.eu
END:VEVENT
END:VCALENDAR