BEGIN:VCALENDAR
VERSION:2.0
PRODID:-//Lina Edu - ECPv6.15.14//NONSGML v1.0//EN
CALSCALE:GREGORIAN
METHOD:PUBLISH
X-ORIGINAL-URL:https://linaedu.eu
X-WR-CALDESC:Events for Lina Edu
REFRESH-INTERVAL;VALUE=DURATION:PT1H
X-Robots-Tag:noindex
X-PUBLISHED-TTL:PT1H
BEGIN:VTIMEZONE
TZID:Europe/Zagreb
BEGIN:DAYLIGHT
TZOFFSETFROM:+0100
TZOFFSETTO:+0200
TZNAME:CEST
DTSTART:20240331T010000
END:DAYLIGHT
BEGIN:STANDARD
TZOFFSETFROM:+0200
TZOFFSETTO:+0100
TZNAME:CET
DTSTART:20241027T010000
END:STANDARD
BEGIN:DAYLIGHT
TZOFFSETFROM:+0100
TZOFFSETTO:+0200
TZNAME:CEST
DTSTART:20250330T010000
END:DAYLIGHT
BEGIN:STANDARD
TZOFFSETFROM:+0200
TZOFFSETTO:+0100
TZNAME:CET
DTSTART:20251026T010000
END:STANDARD
BEGIN:DAYLIGHT
TZOFFSETFROM:+0100
TZOFFSETTO:+0200
TZNAME:CEST
DTSTART:20260329T010000
END:DAYLIGHT
BEGIN:STANDARD
TZOFFSETFROM:+0200
TZOFFSETTO:+0100
TZNAME:CET
DTSTART:20261025T010000
END:STANDARD
END:VTIMEZONE
BEGIN:VEVENT
DTSTART;VALUE=DATE:20250310
DTEND;VALUE=DATE:20250316
DTSTAMP:20260420T230152
CREATED:20250106T132243Z
LAST-MODIFIED:20250327T192801Z
UID:212832-1741564800-1742083199@linaedu.eu
SUMMARY:Video Teaching Methods: Flipped Classroom [10.03. - 15.03.2025.]
DESCRIPTION:Creative Teaching Methods-Video Teacher and Successful Video Lessons [10.03. – 15.03.2025.] \n\n\n\n\n\n\n\n\n\n\n\n\n\n\n\n\n\n\n\n\n\n\n\n\n01\n\n\n\n\nMake Lessons Engaging\n\n\n\n\nThis Erasmus+ course will help participants to use a video lesson as an innovative teaching method to make their students more engaged\, responsible for their learning process \n\n\n\n\n\n\n02\n\n\n\n\nImprove Your Approach\n\n\n\n\nIndividual\, pair and group\, and a field class with the additional value of the meaningful cultural heritage implementation that is required to accomplish cross-curricular expectations. \n\n\n\n\n\n\n03\n\n\n\n\nGuidance\n\n\n\n\nDuring the course\, teachers will be precisely guided how to create a video lesson starting from a blank slide. \n\n\nApply Now
URL:https://linaedu.eu/course/creative-teaching-methods-video-teacher-and-successful-video-lessons-10-03-15-03-2025/
LOCATION:Split\, Split\, Croatia (Local Name: Hrvatska)
CATEGORIES:Video
ATTACH;FMTTYPE=image/jpeg:https://linaedu.eu/wp-content/uploads/2023/08/Lina-Edu-Erasmus-Course-Creative-Teaching-Methods-Video-Teacher-and-Successful-Video-Lessons.jpg
ORGANIZER;CN="Lina Edu Erasmus+ Courses Croatia":MAILTO:info@linaedu.eu
END:VEVENT
BEGIN:VEVENT
DTSTART;VALUE=DATE:20250303
DTEND;VALUE=DATE:20250309
DTSTAMP:20260420T230152
CREATED:20250106T132156Z
LAST-MODIFIED:20250327T192807Z
UID:212830-1740960000-1741478399@linaedu.eu
SUMMARY:Video Teaching Methods: Flipped Classroom [03.03. - 08.03.2025.]
DESCRIPTION:Creative Teaching Methods-Video Teacher and Successful Video Lessons [03.03. – 08.03.2025.] \n\n\n\n\n\n\n\n\n\n\n\n\n\n\n\n\n\n\n\n\n\n\n\n\n01\n\n\n\n\nMake Lessons Engaging\n\n\n\n\nThis Erasmus+ course will help participants to use a video lesson as an innovative teaching method to make their students more engaged\, responsible for their learning process \n\n\n\n\n\n\n02\n\n\n\n\nImprove Your Approach\n\n\n\n\nIndividual\, pair and group\, and a field class with the additional value of the meaningful cultural heritage implementation that is required to accomplish cross-curricular expectations. \n\n\n\n\n\n\n03\n\n\n\n\nGuidance\n\n\n\n\nDuring the course\, teachers will be precisely guided how to create a video lesson starting from a blank slide. \n\n\nApply Now
URL:https://linaedu.eu/course/creative-teaching-methods-video-teacher-and-successful-video-lessons-03-03-08-03-2025/
LOCATION:Split\, Split\, Croatia (Local Name: Hrvatska)
CATEGORIES:Video
ATTACH;FMTTYPE=image/jpeg:https://linaedu.eu/wp-content/uploads/2023/08/Lina-Edu-Erasmus-Course-Creative-Teaching-Methods-Video-Teacher-and-Successful-Video-Lessons.jpg
ORGANIZER;CN="Lina Edu Erasmus+ Courses Croatia":MAILTO:info@linaedu.eu
END:VEVENT
BEGIN:VEVENT
DTSTART;VALUE=DATE:20250224
DTEND;VALUE=DATE:20250302
DTSTAMP:20260420T230152
CREATED:20250106T132103Z
LAST-MODIFIED:20250327T192815Z
UID:212828-1740355200-1740873599@linaedu.eu
SUMMARY:Video Teaching Methods: Flipped Classroom [24.02. - 01.03.2025.]
DESCRIPTION:Creative Teaching Methods-Video Teacher and Successful Video Lessons [24.02. – 01.03.2025.] \n\n\n\n\n\n\n\n\n\n\n\n\n\n\n\n\n\n\n\n\n\n\n\n\n01\n\n\n\n\nMake Lessons Engaging\n\n\n\n\nThis Erasmus+ course will help participants to use a video lesson as an innovative teaching method to make their students more engaged\, responsible for their learning process \n\n\n\n\n\n\n02\n\n\n\n\nImprove Your Approach\n\n\n\n\nIndividual\, pair and group\, and a field class with the additional value of the meaningful cultural heritage implementation that is required to accomplish cross-curricular expectations. \n\n\n\n\n\n\n03\n\n\n\n\nGuidance\n\n\n\n\nDuring the course\, teachers will be precisely guided how to create a video lesson starting from a blank slide. \n\n\nApply Now
URL:https://linaedu.eu/course/creative-teaching-methods-video-teacher-and-successful-video-lessons-24-02-01-03-2025/
LOCATION:Split\, Split\, Croatia (Local Name: Hrvatska)
CATEGORIES:Video
ATTACH;FMTTYPE=image/jpeg:https://linaedu.eu/wp-content/uploads/2023/08/Lina-Edu-Erasmus-Course-Creative-Teaching-Methods-Video-Teacher-and-Successful-Video-Lessons.jpg
ORGANIZER;CN="Lina Edu Erasmus+ Courses Croatia":MAILTO:info@linaedu.eu
END:VEVENT
BEGIN:VEVENT
DTSTART;VALUE=DATE:20250217
DTEND;VALUE=DATE:20250223
DTSTAMP:20260420T230152
CREATED:20250106T132018Z
LAST-MODIFIED:20250327T192821Z
UID:212826-1739750400-1740268799@linaedu.eu
SUMMARY:Video Teaching Methods: Flipped Classroom [17.02. - 22.02.2025.]
DESCRIPTION:Creative Teaching Methods-Video Teacher and Successful Video Lessons [17.02. – 22.02.2025.] \n\n\n\n\n\n\n\n\n\n\n\n\n\n\n\n\n\n\n\n\n\n\n\n\n01\n\n\n\n\nMake Lessons Engaging\n\n\n\n\nThis Erasmus+ course will help participants to use a video lesson as an innovative teaching method to make their students more engaged\, responsible for their learning process \n\n\n\n\n\n\n02\n\n\n\n\nImprove Your Approach\n\n\n\n\nIndividual\, pair and group\, and a field class with the additional value of the meaningful cultural heritage implementation that is required to accomplish cross-curricular expectations. \n\n\n\n\n\n\n03\n\n\n\n\nGuidance\n\n\n\n\nDuring the course\, teachers will be precisely guided how to create a video lesson starting from a blank slide. \n\n\nApply Now
URL:https://linaedu.eu/course/creative-teaching-methods-video-teacher-and-successful-video-lessons-17-02-22-02-2025/
LOCATION:Split\, Split\, Croatia (Local Name: Hrvatska)
CATEGORIES:Video
ATTACH;FMTTYPE=image/jpeg:https://linaedu.eu/wp-content/uploads/2023/08/Lina-Edu-Erasmus-Course-Creative-Teaching-Methods-Video-Teacher-and-Successful-Video-Lessons.jpg
ORGANIZER;CN="Lina Edu Erasmus+ Courses Croatia":MAILTO:info@linaedu.eu
END:VEVENT
BEGIN:VEVENT
DTSTART;VALUE=DATE:20250210
DTEND;VALUE=DATE:20250216
DTSTAMP:20260420T230152
CREATED:20250106T131934Z
LAST-MODIFIED:20250327T192828Z
UID:212824-1739145600-1739663999@linaedu.eu
SUMMARY:Video Teaching Methods: Flipped Classroom [10.02. - 15.02.2025.]
DESCRIPTION:Creative Teaching Methods-Video Teacher and Successful Video Lessons [10.02. – 15.02.2025.] \n\n\n\n\n\n\n\n\n\n\n\n\n\n\n\n\n\n\n\n\n\n\n\n\n01\n\n\n\n\nMake Lessons Engaging\n\n\n\n\nThis Erasmus+ course will help participants to use a video lesson as an innovative teaching method to make their students more engaged\, responsible for their learning process \n\n\n\n\n\n\n02\n\n\n\n\nImprove Your Approach\n\n\n\n\nIndividual\, pair and group\, and a field class with the additional value of the meaningful cultural heritage implementation that is required to accomplish cross-curricular expectations. \n\n\n\n\n\n\n03\n\n\n\n\nGuidance\n\n\n\n\nDuring the course\, teachers will be precisely guided how to create a video lesson starting from a blank slide. \n\n\nApply Now
URL:https://linaedu.eu/course/creative-teaching-methods-video-teacher-and-successful-video-lessons-10-02-15-02-2025/
LOCATION:Split\, Split\, Croatia (Local Name: Hrvatska)
CATEGORIES:Video
ATTACH;FMTTYPE=image/jpeg:https://linaedu.eu/wp-content/uploads/2023/08/Lina-Edu-Erasmus-Course-Creative-Teaching-Methods-Video-Teacher-and-Successful-Video-Lessons.jpg
ORGANIZER;CN="Lina Edu Erasmus+ Courses Croatia":MAILTO:info@linaedu.eu
END:VEVENT
BEGIN:VEVENT
DTSTART;VALUE=DATE:20250203
DTEND;VALUE=DATE:20250209
DTSTAMP:20260420T230152
CREATED:20250106T131851Z
LAST-MODIFIED:20250327T192835Z
UID:212822-1738540800-1739059199@linaedu.eu
SUMMARY:Video Teaching Methods: Flipped Classroom [03.02. - 08.02.2025.]
DESCRIPTION:Creative Teaching Methods-Video Teacher and Successful Video Lessons [03.02. – 08.02.2025.] \n\n\n\n\n\n\n\n\n\n\n\n\n\n\n\n\n\n\n\n\n\n\n\n\n01\n\n\n\n\nMake Lessons Engaging\n\n\n\n\nThis Erasmus+ course will help participants to use a video lesson as an innovative teaching method to make their students more engaged\, responsible for their learning process \n\n\n\n\n\n\n02\n\n\n\n\nImprove Your Approach\n\n\n\n\nIndividual\, pair and group\, and a field class with the additional value of the meaningful cultural heritage implementation that is required to accomplish cross-curricular expectations. \n\n\n\n\n\n\n03\n\n\n\n\nGuidance\n\n\n\n\nDuring the course\, teachers will be precisely guided how to create a video lesson starting from a blank slide. \n\n\nApply Now
URL:https://linaedu.eu/course/creative-teaching-methods-video-teacher-and-successful-video-lessons-03-02-08-02-2025/
LOCATION:Split\, Split\, Croatia (Local Name: Hrvatska)
CATEGORIES:Video
ATTACH;FMTTYPE=image/jpeg:https://linaedu.eu/wp-content/uploads/2023/08/Lina-Edu-Erasmus-Course-Creative-Teaching-Methods-Video-Teacher-and-Successful-Video-Lessons.jpg
ORGANIZER;CN="Lina Edu Erasmus+ Courses Croatia":MAILTO:info@linaedu.eu
END:VEVENT
BEGIN:VEVENT
DTSTART;VALUE=DATE:20250127
DTEND;VALUE=DATE:20250202
DTSTAMP:20260420T230152
CREATED:20250106T131806Z
LAST-MODIFIED:20250327T192841Z
UID:212820-1737936000-1738454399@linaedu.eu
SUMMARY:Video Teaching Methods: Flipped Classroom [27.01. - 01.02.2025.]
DESCRIPTION:Creative Teaching Methods-Video Teacher and Successful Video Lessons [27.01. – 01.02.2025.] \n\n\n\n\n\n\n\n\n\n\n\n\n\n\n\n\n\n\n\n\n\n\n\n\n01\n\n\n\n\nMake Lessons Engaging\n\n\n\n\nThis Erasmus+ course will help participants to use a video lesson as an innovative teaching method to make their students more engaged\, responsible for their learning process \n\n\n\n\n\n\n02\n\n\n\n\nImprove Your Approach\n\n\n\n\nIndividual\, pair and group\, and a field class with the additional value of the meaningful cultural heritage implementation that is required to accomplish cross-curricular expectations. \n\n\n\n\n\n\n03\n\n\n\n\nGuidance\n\n\n\n\nDuring the course\, teachers will be precisely guided how to create a video lesson starting from a blank slide. \n\n\nApply Now
URL:https://linaedu.eu/course/creative-teaching-methods-video-teacher-and-successful-video-lessons-27-01-01-02-2025/
LOCATION:Split\, Split\, Croatia (Local Name: Hrvatska)
CATEGORIES:Video
ATTACH;FMTTYPE=image/jpeg:https://linaedu.eu/wp-content/uploads/2023/08/Lina-Edu-Erasmus-Course-Creative-Teaching-Methods-Video-Teacher-and-Successful-Video-Lessons.jpg
ORGANIZER;CN="Lina Edu Erasmus+ Courses Croatia":MAILTO:info@linaedu.eu
END:VEVENT
BEGIN:VEVENT
DTSTART;VALUE=DATE:20250120
DTEND;VALUE=DATE:20250126
DTSTAMP:20260420T230152
CREATED:20250106T131719Z
LAST-MODIFIED:20250327T192847Z
UID:212818-1737331200-1737849599@linaedu.eu
SUMMARY:Video Teaching Methods: Flipped Classroom [20.01. - 25.01.2025.]
DESCRIPTION:Creative Teaching Methods-Video Teacher and Successful Video Lessons [20.01. – 25.01.2025.] \n\n\n\n\n\n\n\n\n\n\n\n\n\n\n\n\n\n\n\n\n\n\n\n\n01\n\n\n\n\nMake Lessons Engaging\n\n\n\n\nThis Erasmus+ course will help participants to use a video lesson as an innovative teaching method to make their students more engaged\, responsible for their learning process \n\n\n\n\n\n\n02\n\n\n\n\nImprove Your Approach\n\n\n\n\nIndividual\, pair and group\, and a field class with the additional value of the meaningful cultural heritage implementation that is required to accomplish cross-curricular expectations. \n\n\n\n\n\n\n03\n\n\n\n\nGuidance\n\n\n\n\nDuring the course\, teachers will be precisely guided how to create a video lesson starting from a blank slide. \n\n\nApply Now
URL:https://linaedu.eu/course/creative-teaching-methods-video-teacher-and-successful-video-lessons-20-01-25-01-2025/
LOCATION:Split\, Split\, Croatia (Local Name: Hrvatska)
CATEGORIES:Video
ATTACH;FMTTYPE=image/jpeg:https://linaedu.eu/wp-content/uploads/2023/08/Lina-Edu-Erasmus-Course-Creative-Teaching-Methods-Video-Teacher-and-Successful-Video-Lessons.jpg
ORGANIZER;CN="Lina Edu Erasmus+ Courses Croatia":MAILTO:info@linaedu.eu
END:VEVENT
BEGIN:VEVENT
DTSTART;VALUE=DATE:20250113
DTEND;VALUE=DATE:20250119
DTSTAMP:20260420T230152
CREATED:20250106T131631Z
LAST-MODIFIED:20250327T192853Z
UID:212816-1736726400-1737244799@linaedu.eu
SUMMARY:Video Teaching Methods: Flipped Classroom [13.01. - 18.01.2025.]
DESCRIPTION:Creative Teaching Methods-Video Teacher and Successful Video Lessons [13.01. – 18.01.2025.] \n\n\n\n\n\n\n\n\n\n\n\n\n\n\n\n\n\n\n\n\n\n\n\n\n01\n\n\n\n\nMake Lessons Engaging\n\n\n\n\nThis Erasmus+ course will help participants to use a video lesson as an innovative teaching method to make their students more engaged\, responsible for their learning process \n\n\n\n\n\n\n02\n\n\n\n\nImprove Your Approach\n\n\n\n\nIndividual\, pair and group\, and a field class with the additional value of the meaningful cultural heritage implementation that is required to accomplish cross-curricular expectations. \n\n\n\n\n\n\n03\n\n\n\n\nGuidance\n\n\n\n\nDuring the course\, teachers will be precisely guided how to create a video lesson starting from a blank slide. \n\n\nApply Now
URL:https://linaedu.eu/course/creative-teaching-methods-video-teacher-and-successful-video-lessons-13-01-18-01-2025/
LOCATION:Split\, Split\, Croatia (Local Name: Hrvatska)
CATEGORIES:Video
ATTACH;FMTTYPE=image/jpeg:https://linaedu.eu/wp-content/uploads/2023/08/Lina-Edu-Erasmus-Course-Creative-Teaching-Methods-Video-Teacher-and-Successful-Video-Lessons.jpg
ORGANIZER;CN="Lina Edu Erasmus+ Courses Croatia":MAILTO:info@linaedu.eu
END:VEVENT
BEGIN:VEVENT
DTSTART;VALUE=DATE:20250106
DTEND;VALUE=DATE:20250112
DTSTAMP:20260420T230152
CREATED:20250106T131543Z
LAST-MODIFIED:20250327T192858Z
UID:212814-1736121600-1736639999@linaedu.eu
SUMMARY:Video Teaching Methods: Flipped Classroom [06.01. - 11.01.2025.]
DESCRIPTION:Creative Teaching Methods-Video Teacher and Successful Video Lessons [06.01. – 11.01.2025.] \n\n\n\n\n\n\n\n\n\n\n\n\n\n\n\n\n\n\n\n\n\n\n\n\n01\n\n\n\n\nMake Lessons Engaging\n\n\n\n\nThis Erasmus+ course will help participants to use a video lesson as an innovative teaching method to make their students more engaged\, responsible for their learning process \n\n\n\n\n\n\n02\n\n\n\n\nImprove Your Approach\n\n\n\n\nIndividual\, pair and group\, and a field class with the additional value of the meaningful cultural heritage implementation that is required to accomplish cross-curricular expectations. \n\n\n\n\n\n\n03\n\n\n\n\nGuidance\n\n\n\n\nDuring the course\, teachers will be precisely guided how to create a video lesson starting from a blank slide. \n\n\nApply Now
URL:https://linaedu.eu/course/creative-teaching-methods-video-teacher-and-successful-video-lessons-06-01-11-01-2025/
LOCATION:Split\, Split\, Croatia (Local Name: Hrvatska)
CATEGORIES:Video
ATTACH;FMTTYPE=image/jpeg:https://linaedu.eu/wp-content/uploads/2023/08/Lina-Edu-Erasmus-Course-Creative-Teaching-Methods-Video-Teacher-and-Successful-Video-Lessons.jpg
ORGANIZER;CN="Lina Edu Erasmus+ Courses Croatia":MAILTO:info@linaedu.eu
END:VEVENT
END:VCALENDAR