BEGIN:VCALENDAR
VERSION:2.0
PRODID:-//Lina Edu - ECPv6.15.14//NONSGML v1.0//EN
CALSCALE:GREGORIAN
METHOD:PUBLISH
X-WR-CALNAME:Lina Edu
X-ORIGINAL-URL:https://linaedu.eu
X-WR-CALDESC:Events for Lina Edu
REFRESH-INTERVAL;VALUE=DURATION:PT1H
X-Robots-Tag:noindex
X-PUBLISHED-TTL:PT1H
BEGIN:VTIMEZONE
TZID:Europe/Zagreb
BEGIN:DAYLIGHT
TZOFFSETFROM:+0100
TZOFFSETTO:+0200
TZNAME:CEST
DTSTART:20240331T010000
END:DAYLIGHT
BEGIN:STANDARD
TZOFFSETFROM:+0200
TZOFFSETTO:+0100
TZNAME:CET
DTSTART:20241027T010000
END:STANDARD
BEGIN:DAYLIGHT
TZOFFSETFROM:+0100
TZOFFSETTO:+0200
TZNAME:CEST
DTSTART:20250330T010000
END:DAYLIGHT
BEGIN:STANDARD
TZOFFSETFROM:+0200
TZOFFSETTO:+0100
TZNAME:CET
DTSTART:20251026T010000
END:STANDARD
BEGIN:DAYLIGHT
TZOFFSETFROM:+0100
TZOFFSETTO:+0200
TZNAME:CEST
DTSTART:20260329T010000
END:DAYLIGHT
BEGIN:STANDARD
TZOFFSETFROM:+0200
TZOFFSETTO:+0100
TZNAME:CET
DTSTART:20261025T010000
END:STANDARD
END:VTIMEZONE
BEGIN:VEVENT
DTSTART;VALUE=DATE:20250210
DTEND;VALUE=DATE:20250216
DTSTAMP:20260419T232641
CREATED:20250106T141320Z
LAST-MODIFIED:20250106T141320Z
UID:212925-1739145600-1739663999@linaedu.eu
SUMMARY:Zen-sational Teaching: Teach the Mindful Way [10.02. - 15.02.2025.]
DESCRIPTION:Zen-sational Teaching: Teach the Mindful Way [10.02. – 15.02.2025.] \n\n\n\n\n\n\n\n\n\n\n\n\n\n\n\n\n\n\n\n\n\n\n\n\n\n\n\n01\n\n\n\n\nStrengthen your overall well-being\n\n\n\n\nBy participating in this Erasmus+ course\, teachers will gain useful strategies to achieve more\npersonal and professional balance. \n\n\n\n\n\n\n02\n\n\n\n\nImprove your teacher’s performance\n\n\n\n\nBy developing new skills based on balanced mindfulness techniques\, teachers will gain more powerful and effective performance in their classes. \n\n\n\n\n\n\n03\n\n\n\n\nGuidance\n\n\n\n\nParticipants will be guided\, tutored and assisted how to implement mindfulness techniques\nand methods in their life and work implying step-by step approach by motivated course\neducators. \n\n\nApply Now
URL:https://linaedu.eu/course/zen-sational-teaching-teach-the-mindful-way-10-02-15-02-2025/
LOCATION:Split\, Split\, Croatia (Local Name: Hrvatska)
CATEGORIES:Zen
ATTACH;FMTTYPE=image/jpeg:https://linaedu.eu/wp-content/uploads/2024/08/ZEN.jpg
ORGANIZER;CN="Lina Edu Erasmus+ Courses Croatia":MAILTO:info@linaedu.eu
END:VEVENT
BEGIN:VEVENT
DTSTART;VALUE=DATE:20250203
DTEND;VALUE=DATE:20250209
DTSTAMP:20260419T232641
CREATED:20250106T141242Z
LAST-MODIFIED:20250106T141242Z
UID:212923-1738540800-1739059199@linaedu.eu
SUMMARY:Zen-sational Teaching: Teach the Mindful Way [03.02. - 08.02.2025.]
DESCRIPTION:Zen-sational Teaching: Teach the Mindful Way [03.02. – 08.02.2025.] \n\n\n\n\n\n\n\n\n\n\n\n\n\n\n\n\n\n\n\n\n\n\n\n\n\n\n\n01\n\n\n\n\nStrengthen your overall well-being\n\n\n\n\nBy participating in this Erasmus+ course\, teachers will gain useful strategies to achieve more\npersonal and professional balance. \n\n\n\n\n\n\n02\n\n\n\n\nImprove your teacher’s performance\n\n\n\n\nBy developing new skills based on balanced mindfulness techniques\, teachers will gain more powerful and effective performance in their classes. \n\n\n\n\n\n\n03\n\n\n\n\nGuidance\n\n\n\n\nParticipants will be guided\, tutored and assisted how to implement mindfulness techniques\nand methods in their life and work implying step-by step approach by motivated course\neducators. \n\n\nApply Now
URL:https://linaedu.eu/course/zen-sational-teaching-teach-the-mindful-way-03-02-08-02-2025/
LOCATION:Split\, Split\, Croatia (Local Name: Hrvatska)
CATEGORIES:Zen
ATTACH;FMTTYPE=image/jpeg:https://linaedu.eu/wp-content/uploads/2024/08/ZEN.jpg
ORGANIZER;CN="Lina Edu Erasmus+ Courses Croatia":MAILTO:info@linaedu.eu
END:VEVENT
BEGIN:VEVENT
DTSTART;VALUE=DATE:20250127
DTEND;VALUE=DATE:20250202
DTSTAMP:20260419T232641
CREATED:20250106T141158Z
LAST-MODIFIED:20250106T141158Z
UID:212921-1737936000-1738454399@linaedu.eu
SUMMARY:Zen-sational Teaching: Teach the Mindful Way [27.01. - 01.02.2025.]
DESCRIPTION:Zen-sational Teaching: Teach the Mindful Way [27.01. – 01.02.2025.] \n\n\n\n\n\n\n\n\n\n\n\n\n\n\n\n\n\n\n\n\n\n\n\n\n\n\n\n01\n\n\n\n\nStrengthen your overall well-being\n\n\n\n\nBy participating in this Erasmus+ course\, teachers will gain useful strategies to achieve more\npersonal and professional balance. \n\n\n\n\n\n\n02\n\n\n\n\nImprove your teacher’s performance\n\n\n\n\nBy developing new skills based on balanced mindfulness techniques\, teachers will gain more powerful and effective performance in their classes. \n\n\n\n\n\n\n03\n\n\n\n\nGuidance\n\n\n\n\nParticipants will be guided\, tutored and assisted how to implement mindfulness techniques\nand methods in their life and work implying step-by step approach by motivated course\neducators. \n\n\nApply Now
URL:https://linaedu.eu/course/zen-sational-teaching-teach-the-mindful-way-27-01-01-02-2025/
LOCATION:Split\, Split\, Croatia (Local Name: Hrvatska)
CATEGORIES:Zen
ATTACH;FMTTYPE=image/jpeg:https://linaedu.eu/wp-content/uploads/2024/08/ZEN.jpg
ORGANIZER;CN="Lina Edu Erasmus+ Courses Croatia":MAILTO:info@linaedu.eu
END:VEVENT
BEGIN:VEVENT
DTSTART;VALUE=DATE:20250120
DTEND;VALUE=DATE:20250126
DTSTAMP:20260419T232641
CREATED:20250106T141113Z
LAST-MODIFIED:20250106T141113Z
UID:212919-1737331200-1737849599@linaedu.eu
SUMMARY:Zen-sational Teaching: Teach the Mindful Way [20.01. - 25.01.2025.]
DESCRIPTION:Zen-sational Teaching: Teach the Mindful Way [20.01. – 25.01.2025.] \n\n\n\n\n\n\n\n\n\n\n\n\n\n\n\n\n\n\n\n\n\n\n\n\n\n\n\n01\n\n\n\n\nStrengthen your overall well-being\n\n\n\n\nBy participating in this Erasmus+ course\, teachers will gain useful strategies to achieve more\npersonal and professional balance. \n\n\n\n\n\n\n02\n\n\n\n\nImprove your teacher’s performance\n\n\n\n\nBy developing new skills based on balanced mindfulness techniques\, teachers will gain more powerful and effective performance in their classes. \n\n\n\n\n\n\n03\n\n\n\n\nGuidance\n\n\n\n\nParticipants will be guided\, tutored and assisted how to implement mindfulness techniques\nand methods in their life and work implying step-by step approach by motivated course\neducators. \n\n\nApply Now
URL:https://linaedu.eu/course/zen-sational-teaching-teach-the-mindful-way-20-01-25-01-2025/
LOCATION:Split\, Split\, Croatia (Local Name: Hrvatska)
CATEGORIES:Zen
ATTACH;FMTTYPE=image/jpeg:https://linaedu.eu/wp-content/uploads/2024/08/ZEN.jpg
ORGANIZER;CN="Lina Edu Erasmus+ Courses Croatia":MAILTO:info@linaedu.eu
END:VEVENT
BEGIN:VEVENT
DTSTART;VALUE=DATE:20250113
DTEND;VALUE=DATE:20250119
DTSTAMP:20260419T232641
CREATED:20250106T141026Z
LAST-MODIFIED:20250106T141026Z
UID:212917-1736726400-1737244799@linaedu.eu
SUMMARY:Zen-sational Teaching: Teach the Mindful Way [13.01. - 18.01.2025.]
DESCRIPTION:Zen-sational Teaching: Teach the Mindful Way [13.01. – 18.01.2025.] \n\n\n\n\n\n\n\n\n\n\n\n\n\n\n\n\n\n\n\n\n\n\n\n\n\n\n\n01\n\n\n\n\nStrengthen your overall well-being\n\n\n\n\nBy participating in this Erasmus+ course\, teachers will gain useful strategies to achieve more\npersonal and professional balance. \n\n\n\n\n\n\n02\n\n\n\n\nImprove your teacher’s performance\n\n\n\n\nBy developing new skills based on balanced mindfulness techniques\, teachers will gain more powerful and effective performance in their classes. \n\n\n\n\n\n\n03\n\n\n\n\nGuidance\n\n\n\n\nParticipants will be guided\, tutored and assisted how to implement mindfulness techniques\nand methods in their life and work implying step-by step approach by motivated course\neducators. \n\n\nApply Now
URL:https://linaedu.eu/course/zen-sational-teaching-teach-the-mindful-way-13-01-18-01-2025/
LOCATION:Split\, Split\, Croatia (Local Name: Hrvatska)
CATEGORIES:Zen
ATTACH;FMTTYPE=image/jpeg:https://linaedu.eu/wp-content/uploads/2024/08/ZEN.jpg
ORGANIZER;CN="Lina Edu Erasmus+ Courses Croatia":MAILTO:info@linaedu.eu
END:VEVENT
BEGIN:VEVENT
DTSTART;VALUE=DATE:20250106
DTEND;VALUE=DATE:20250112
DTSTAMP:20260419T232641
CREATED:20250106T140940Z
LAST-MODIFIED:20250106T140940Z
UID:212915-1736121600-1736639999@linaedu.eu
SUMMARY:Zen-sational Teaching: Teach the Mindful Way [06.01. - 11.01.2025.]
DESCRIPTION:Zen-sational Teaching: Teach the Mindful Way [06.01. – 11.01.2025.] \n\n\n\n\n\n\n\n\n\n\n\n\n\n\n\n\n\n\n\n\n\n\n\n\n\n\n\n01\n\n\n\n\nStrengthen your overall well-being\n\n\n\n\nBy participating in this Erasmus+ course\, teachers will gain useful strategies to achieve more\npersonal and professional balance. \n\n\n\n\n\n\n02\n\n\n\n\nImprove your teacher’s performance\n\n\n\n\nBy developing new skills based on balanced mindfulness techniques\, teachers will gain more powerful and effective performance in their classes. \n\n\n\n\n\n\n03\n\n\n\n\nGuidance\n\n\n\n\nParticipants will be guided\, tutored and assisted how to implement mindfulness techniques\nand methods in their life and work implying step-by step approach by motivated course\neducators. \n\n\nApply Now
URL:https://linaedu.eu/course/zen-sational-teaching-teach-the-mindful-way-06-01-11-01-2025/
LOCATION:Split\, Split\, Croatia (Local Name: Hrvatska)
CATEGORIES:Zen
ATTACH;FMTTYPE=image/jpeg:https://linaedu.eu/wp-content/uploads/2024/08/ZEN.jpg
ORGANIZER;CN="Lina Edu Erasmus+ Courses Croatia":MAILTO:info@linaedu.eu
END:VEVENT
END:VCALENDAR