BEGIN:VCALENDAR
VERSION:2.0
PRODID:-//Lina Edu - ECPv6.15.14//NONSGML v1.0//EN
CALSCALE:GREGORIAN
METHOD:PUBLISH
X-WR-CALNAME:Lina Edu
X-ORIGINAL-URL:https://linaedu.eu
X-WR-CALDESC:Events for Lina Edu
REFRESH-INTERVAL;VALUE=DURATION:PT1H
X-Robots-Tag:noindex
X-PUBLISHED-TTL:PT1H
BEGIN:VTIMEZONE
TZID:Europe/Zagreb
BEGIN:DAYLIGHT
TZOFFSETFROM:+0100
TZOFFSETTO:+0200
TZNAME:CEST
DTSTART:20240331T010000
END:DAYLIGHT
BEGIN:STANDARD
TZOFFSETFROM:+0200
TZOFFSETTO:+0100
TZNAME:CET
DTSTART:20241027T010000
END:STANDARD
BEGIN:DAYLIGHT
TZOFFSETFROM:+0100
TZOFFSETTO:+0200
TZNAME:CEST
DTSTART:20250330T010000
END:DAYLIGHT
BEGIN:STANDARD
TZOFFSETFROM:+0200
TZOFFSETTO:+0100
TZNAME:CET
DTSTART:20251026T010000
END:STANDARD
BEGIN:DAYLIGHT
TZOFFSETFROM:+0100
TZOFFSETTO:+0200
TZNAME:CEST
DTSTART:20260329T010000
END:DAYLIGHT
BEGIN:STANDARD
TZOFFSETFROM:+0200
TZOFFSETTO:+0100
TZNAME:CET
DTSTART:20261025T010000
END:STANDARD
END:VTIMEZONE
BEGIN:VEVENT
DTSTART;VALUE=DATE:20250203
DTEND;VALUE=DATE:20250209
DTSTAMP:20260421T190351
CREATED:20250105T115702Z
LAST-MODIFIED:20250105T115702Z
UID:212373-1738540800-1739059199@linaedu.eu
SUMMARY:Entrepreneurship Skills in Our Classrooms: From Idea to Final Product [03.02. - 08.02.2025.]
DESCRIPTION:Entrepreneurship Skills in Our Classrooms: From Idea to Final Product [03.02. – 08.02.2025.] \n\n\n\n\n\n\n\n\n\n\n\n\n01\n\n\n\n\nDevelop Soft Skills\n\n\n\n\nGain an understanding and develop the soft skills and decision making in business-settings  and entrepreneurship. \n\n\n\n\n\n\n02\n\n\n\n\nUtilize AI Tools\n\n\n\n\nLearn to employ AI tools to create engaging and visually appealing classroom business presentations. \n\n\n\n\n\n\n03\n\n\n\n\nHands-On Experience\n\n\n\nEngage in hands-on activities in Split’s unique landscapes to master your new skills.\n\nApply Now
URL:https://linaedu.eu/course/entrepreneurship-skills-in-our-classrooms-from-idea-to-final-product-03-02-08-02-2025/
LOCATION:Split\, Split\, Croatia (Local Name: Hrvatska)
CATEGORIES:Entrepreneurship
ATTACH;FMTTYPE=image/jpeg:https://linaedu.eu/wp-content/uploads/2023/08/Lina-Edu-Entrepreneurship-Skills-in-Our-Classrooms-From-Idea-to-Final-Product.jpg
ORGANIZER;CN="Lina Edu Erasmus+ Courses Croatia":MAILTO:info@linaedu.eu
END:VEVENT
END:VCALENDAR