BEGIN:VCALENDAR
VERSION:2.0
PRODID:-//Lina Edu - ECPv6.15.14//NONSGML v1.0//EN
CALSCALE:GREGORIAN
METHOD:PUBLISH
X-WR-CALNAME:Lina Edu
X-ORIGINAL-URL:https://linaedu.eu
X-WR-CALDESC:Events for Lina Edu
REFRESH-INTERVAL;VALUE=DURATION:PT1H
X-Robots-Tag:noindex
X-PUBLISHED-TTL:PT1H
BEGIN:VTIMEZONE
TZID:Europe/Zagreb
BEGIN:DAYLIGHT
TZOFFSETFROM:+0100
TZOFFSETTO:+0200
TZNAME:CEST
DTSTART:20240331T010000
END:DAYLIGHT
BEGIN:STANDARD
TZOFFSETFROM:+0200
TZOFFSETTO:+0100
TZNAME:CET
DTSTART:20241027T010000
END:STANDARD
BEGIN:DAYLIGHT
TZOFFSETFROM:+0100
TZOFFSETTO:+0200
TZNAME:CEST
DTSTART:20250330T010000
END:DAYLIGHT
BEGIN:STANDARD
TZOFFSETFROM:+0200
TZOFFSETTO:+0100
TZNAME:CET
DTSTART:20251026T010000
END:STANDARD
BEGIN:DAYLIGHT
TZOFFSETFROM:+0100
TZOFFSETTO:+0200
TZNAME:CEST
DTSTART:20260329T010000
END:DAYLIGHT
BEGIN:STANDARD
TZOFFSETFROM:+0200
TZOFFSETTO:+0100
TZNAME:CET
DTSTART:20261025T010000
END:STANDARD
END:VTIMEZONE
BEGIN:VEVENT
DTSTART;VALUE=DATE:20251208
DTEND;VALUE=DATE:20251212
DTSTAMP:20260420T121631
CREATED:20250105T134602Z
LAST-MODIFIED:20250105T134602Z
UID:212479-1765152000-1765497599@linaedu.eu
SUMMARY:Goal-setting: Visualise Your Motivation [08.12. - 11.12.2025.]
DESCRIPTION:Goal-setting: Visualise Your Motivation [08.12. – 11.12.2025.] \n\n\n\n\n\n\n\n\n\n01\n\n\n\n\nVisualize Your Motivation\n\n\n\n\nThis Erasmus+ course will help participants to recognize and use different ways how to improve their teaching effectiveness. \n\n\n\n\n\n\n02\n\n\n\n\nSet Teaching Goals\n\n\n\n\nThe course programme focuses on guiding teachers to make their well-tailored plans to keep their motivation stable and rising. \n\n\n\n\n\n\n03\n\n\n\n\nGuidance\n\n\n\n\nDuring the course\, teachers will be precisely guided how to reach a higher level of working motivation through inspiring activities. \n\n\nApply Now
URL:https://linaedu.eu/course/goal-setting-visualise-your-motivation-08-12-11-12-2025/
LOCATION:Split\, Split\, Croatia (Local Name: Hrvatska)
CATEGORIES:Motivation
ATTACH;FMTTYPE=image/jpeg:https://linaedu.eu/wp-content/uploads/2023/08/Lina-Edu-Erasmus-Course-Vizualize-Your-Motivation-From-Plan-to-Realization.jpg
ORGANIZER;CN="Lina Edu Erasmus+ Courses Croatia":MAILTO:info@linaedu.eu
END:VEVENT
END:VCALENDAR