BEGIN:VCALENDAR
VERSION:2.0
PRODID:-//Lina Edu - ECPv6.15.14//NONSGML v1.0//EN
CALSCALE:GREGORIAN
METHOD:PUBLISH
X-WR-CALNAME:Lina Edu
X-ORIGINAL-URL:https://linaedu.eu
X-WR-CALDESC:Events for Lina Edu
REFRESH-INTERVAL;VALUE=DURATION:PT1H
X-Robots-Tag:noindex
X-PUBLISHED-TTL:PT1H
BEGIN:VTIMEZONE
TZID:Europe/Zagreb
BEGIN:DAYLIGHT
TZOFFSETFROM:+0100
TZOFFSETTO:+0200
TZNAME:CEST
DTSTART:20240331T010000
END:DAYLIGHT
BEGIN:STANDARD
TZOFFSETFROM:+0200
TZOFFSETTO:+0100
TZNAME:CET
DTSTART:20241027T010000
END:STANDARD
BEGIN:DAYLIGHT
TZOFFSETFROM:+0100
TZOFFSETTO:+0200
TZNAME:CEST
DTSTART:20250330T010000
END:DAYLIGHT
BEGIN:STANDARD
TZOFFSETFROM:+0200
TZOFFSETTO:+0100
TZNAME:CET
DTSTART:20251026T010000
END:STANDARD
BEGIN:DAYLIGHT
TZOFFSETFROM:+0100
TZOFFSETTO:+0200
TZNAME:CEST
DTSTART:20260329T010000
END:DAYLIGHT
BEGIN:STANDARD
TZOFFSETFROM:+0200
TZOFFSETTO:+0100
TZNAME:CET
DTSTART:20261025T010000
END:STANDARD
END:VTIMEZONE
BEGIN:VEVENT
DTSTART;VALUE=DATE:20250728
DTEND;VALUE=DATE:20250803
DTSTAMP:20260424T151124
CREATED:20250105T145012Z
LAST-MODIFIED:20250105T145012Z
UID:212542-1753660800-1754179199@linaedu.eu
SUMMARY:Intensive English: Presentation Skills in Different Forms [28.07 - 02.08.2025.]
DESCRIPTION:Intensive English: Presentation Skills in Different Forms [28.07 – 02.08.2025.] \n\n\n\n\n\n\n\n\n\n\n\n\n01\n\n\n\n\nLearn to Present in English\n\n\n\n\nGain practical skills in preparing structured presentations\, with correct grammar and vocabulary. \n\n\n\n\n\n\n02\n\n\n\n\nLearn to Speak English\n\n\n\n\nLearn to express your ideas and thoughts by using cultural heritage landmarks for presentation purposes. \n\n\n\n\n\n\n03\n\n\n\n\nCollaboration\n\n\n\n\nCollaborate with like-minded teachers from Europe in the Erasmus+ program. \n\n\nApply Now
URL:https://linaedu.eu/course/intensive-english-presentation-skills-in-different-forms-28-07-02-08-2025/
LOCATION:Split\, Split\, Croatia (Local Name: Hrvatska)
CATEGORIES:Intensive English
ATTACH;FMTTYPE=image/jpeg:https://linaedu.eu/wp-content/uploads/2023/08/Lina-Edu-Erasmus-Course-Intensive-English-Language-Course-Presentation-Skills-in-Different-Forms.jpg
ORGANIZER;CN="Lina Edu Erasmus+ Courses Croatia":MAILTO:info@linaedu.eu
END:VEVENT
BEGIN:VEVENT
DTSTART;VALUE=DATE:20250804
DTEND;VALUE=DATE:20250810
DTSTAMP:20260424T151124
CREATED:20250105T145103Z
LAST-MODIFIED:20250105T145103Z
UID:212544-1754265600-1754783999@linaedu.eu
SUMMARY:Intensive English: Presentation Skills in Different Forms [04.08 - 09.08.2025.]
DESCRIPTION:Intensive English: Presentation Skills in Different Forms [04.08 – 09.08.2025.] \n\n\n\n\n\n\n\n\n\n\n\n\n01\n\n\n\n\nLearn to Present in English\n\n\n\n\nGain practical skills in preparing structured presentations\, with correct grammar and vocabulary. \n\n\n\n\n\n\n02\n\n\n\n\nLearn to Speak English\n\n\n\n\nLearn to express your ideas and thoughts by using cultural heritage landmarks for presentation purposes. \n\n\n\n\n\n\n03\n\n\n\n\nCollaboration\n\n\n\n\nCollaborate with like-minded teachers from Europe in the Erasmus+ program. \n\n\nApply Now
URL:https://linaedu.eu/course/intensive-english-presentation-skills-in-different-forms-04-08-09-08-2025/
LOCATION:Split\, Split\, Croatia (Local Name: Hrvatska)
CATEGORIES:Intensive English
ATTACH;FMTTYPE=image/jpeg:https://linaedu.eu/wp-content/uploads/2023/08/Lina-Edu-Erasmus-Course-Intensive-English-Language-Course-Presentation-Skills-in-Different-Forms.jpg
ORGANIZER;CN="Lina Edu Erasmus+ Courses Croatia":MAILTO:info@linaedu.eu
END:VEVENT
BEGIN:VEVENT
DTSTART;VALUE=DATE:20250811
DTEND;VALUE=DATE:20250817
DTSTAMP:20260424T151124
CREATED:20250105T145151Z
LAST-MODIFIED:20250105T145151Z
UID:212546-1754870400-1755388799@linaedu.eu
SUMMARY:Intensive English: Presentation Skills in Different Forms [11.08 - 16.08.2025.]
DESCRIPTION:Intensive English: Presentation Skills in Different Forms [11.08 – 16.08.2025.] \n\n\n\n\n\n\n\n\n\n\n\n\n01\n\n\n\n\nLearn to Present in English\n\n\n\n\nGain practical skills in preparing structured presentations\, with correct grammar and vocabulary. \n\n\n\n\n\n\n02\n\n\n\n\nLearn to Speak English\n\n\n\n\nLearn to express your ideas and thoughts by using cultural heritage landmarks for presentation purposes. \n\n\n\n\n\n\n03\n\n\n\n\nCollaboration\n\n\n\n\nCollaborate with like-minded teachers from Europe in the Erasmus+ program. \n\n\nApply Now
URL:https://linaedu.eu/course/intensive-english-presentation-skills-in-different-forms-11-08-16-08-2025/
LOCATION:Split\, Split\, Croatia (Local Name: Hrvatska)
CATEGORIES:Intensive English
ATTACH;FMTTYPE=image/jpeg:https://linaedu.eu/wp-content/uploads/2023/08/Lina-Edu-Erasmus-Course-Intensive-English-Language-Course-Presentation-Skills-in-Different-Forms.jpg
ORGANIZER;CN="Lina Edu Erasmus+ Courses Croatia":MAILTO:info@linaedu.eu
END:VEVENT
BEGIN:VEVENT
DTSTART;VALUE=DATE:20250818
DTEND;VALUE=DATE:20250824
DTSTAMP:20260424T151124
CREATED:20250105T145238Z
LAST-MODIFIED:20250105T145238Z
UID:212548-1755475200-1755993599@linaedu.eu
SUMMARY:Intensive English: Presentation Skills in Different Forms [18.08 - 23.08.2025.]
DESCRIPTION:Intensive English: Presentation Skills in Different Forms [18.08 – 23.08.2025.] \n\n\n\n\n\n\n\n\n\n\n\n\n01\n\n\n\n\nLearn to Present in English\n\n\n\n\nGain practical skills in preparing structured presentations\, with correct grammar and vocabulary. \n\n\n\n\n\n\n02\n\n\n\n\nLearn to Speak English\n\n\n\n\nLearn to express your ideas and thoughts by using cultural heritage landmarks for presentation purposes. \n\n\n\n\n\n\n03\n\n\n\n\nCollaboration\n\n\n\n\nCollaborate with like-minded teachers from Europe in the Erasmus+ program. \n\n\nApply Now
URL:https://linaedu.eu/course/intensive-english-presentation-skills-in-different-forms-18-08-23-08-2025/
LOCATION:Split\, Split\, Croatia (Local Name: Hrvatska)
CATEGORIES:Intensive English
ATTACH;FMTTYPE=image/jpeg:https://linaedu.eu/wp-content/uploads/2023/08/Lina-Edu-Erasmus-Course-Intensive-English-Language-Course-Presentation-Skills-in-Different-Forms.jpg
ORGANIZER;CN="Lina Edu Erasmus+ Courses Croatia":MAILTO:info@linaedu.eu
END:VEVENT
BEGIN:VEVENT
DTSTART;VALUE=DATE:20250825
DTEND;VALUE=DATE:20250831
DTSTAMP:20260424T151124
CREATED:20250105T145327Z
LAST-MODIFIED:20250105T145500Z
UID:212550-1756080000-1756598399@linaedu.eu
SUMMARY:Intensive English: Presentation Skills in Different Forms [25.08 - 30.08.2025.]
DESCRIPTION:Intensive English: Presentation Skills in Different Forms [25.08 – 30.08.2025.] \n\n\n\n\n\n\n\n\n\n\n\n\n01\n\n\n\n\nLearn to Present in English\n\n\n\n\nGain practical skills in preparing structured presentations\, with correct grammar and vocabulary. \n\n\n\n\n\n\n02\n\n\n\n\nLearn to Speak English\n\n\n\n\nLearn to express your ideas and thoughts by using cultural heritage landmarks for presentation purposes. \n\n\n\n\n\n\n03\n\n\n\n\nCollaboration\n\n\n\n\nCollaborate with like-minded teachers from Europe in the Erasmus+ program. \n\n\nApply Now
URL:https://linaedu.eu/course/intensive-english-presentation-skills-in-different-forms-25-08-30-08-2025/
LOCATION:Split\, Split\, Croatia (Local Name: Hrvatska)
CATEGORIES:Intensive English
ATTACH;FMTTYPE=image/jpeg:https://linaedu.eu/wp-content/uploads/2023/08/Lina-Edu-Erasmus-Course-Intensive-English-Language-Course-Presentation-Skills-in-Different-Forms.jpg
ORGANIZER;CN="Lina Edu Erasmus+ Courses Croatia":MAILTO:info@linaedu.eu
END:VEVENT
END:VCALENDAR